BEGIN:VCALENDAR
VERSION:2.0
PRODID:-//Panticosa Esqui Club - ECPv5.10.0//NONSGML v1.0//EN
CALSCALE:GREGORIAN
METHOD:PUBLISH
X-WR-CALNAME:Panticosa Esqui Club
X-ORIGINAL-URL:https://www.panticosaesquiclub.es
X-WR-CALDESC:Eventos para Panticosa Esqui Club
BEGIN:VTIMEZONE
TZID:Europe/Madrid
BEGIN:DAYLIGHT
TZOFFSETFROM:+0100
TZOFFSETTO:+0200
TZNAME:CEST
DTSTART:20240331T010000
END:DAYLIGHT
BEGIN:STANDARD
TZOFFSETFROM:+0200
TZOFFSETTO:+0100
TZNAME:CET
DTSTART:20241027T010000
END:STANDARD
END:VTIMEZONE
BEGIN:VEVENT
DTSTART;TZID=Europe/Madrid:20240328T080000
DTEND;TZID=Europe/Madrid:20240329T150000
DTSTAMP:20260420T031950
CREATED:20240314T183238Z
LAST-MODIFIED:20240314T183239Z
UID:21288-1711612800-1711724400@www.panticosaesquiclub.es
SUMMARY:XXII Trofeo Panticosa U14U16 Copa Aragón
DESCRIPTION:
URL:https://www.panticosaesquiclub.es/actividad/xxii-trofeo-panticosa-u14u16-copa-aragon/
LOCATION:Panticosa\, Edif. La Fajuala C/ San Miguel s/n\, Panticosa\, Huesca\, 22661
ATTACH;FMTTYPE=image/png:https://www.panticosaesquiclub.es/wp-content/uploads/CARTEL-XXII-TROFEO-U14-U16-PANTICOSA-.png
END:VEVENT
END:VCALENDAR