BEGIN:VCALENDAR
VERSION:2.0
PRODID:-//Panticosa Esqui Club - ECPv5.10.0//NONSGML v1.0//EN
CALSCALE:GREGORIAN
METHOD:PUBLISH
X-WR-CALNAME:Panticosa Esqui Club
X-ORIGINAL-URL:https://www.panticosaesquiclub.es
X-WR-CALDESC:Eventos para Panticosa Esqui Club
BEGIN:VTIMEZONE
TZID:Europe/Madrid
BEGIN:DAYLIGHT
TZOFFSETFROM:+0100
TZOFFSETTO:+0200
TZNAME:CEST
DTSTART:20200329T010000
END:DAYLIGHT
BEGIN:STANDARD
TZOFFSETFROM:+0200
TZOFFSETTO:+0100
TZNAME:CET
DTSTART:20201025T010000
END:STANDARD
END:VTIMEZONE
BEGIN:VEVENT
DTSTART;VALUE=DATE:20200126
DTEND;VALUE=DATE:20200127
DTSTAMP:20260419T224421
CREATED:20181105T191058Z
LAST-MODIFIED:20200117T070250Z
UID:2638-1579996800-1580083199@www.panticosaesquiclub.es
SUMMARY:XII Trofeo U10-U12 Panticosa Memorial Sergio Belío Comarca Alto Gállego
DESCRIPTION:Participa con nosotros como VOLUNTARIO! Envía un EMAIL con al menos 1 semana de tiempo a panticosa@panticosaesquiclub.es para inscribirte como voluntario. \n  \nCONVOCATORIA XII Trofeo U10-U12 Panticosa Memorial Sergio Belío Comarca Alto Gállego
URL:https://www.panticosaesquiclub.es/actividad/xii-trofeo-u10-u12-panticosa-memorial-sergio-belio-comarca-alto-gallego/
ATTACH;FMTTYPE=image/jpeg:https://www.panticosaesquiclub.es/wp-content/uploads/XII-Trofeo-U10-U12-PANTICOSA.jpg
END:VEVENT
END:VCALENDAR