BEGIN:VCALENDAR
VERSION:2.0
PRODID:-//Panticosa Esqui Club - ECPv5.10.0//NONSGML v1.0//EN
CALSCALE:GREGORIAN
METHOD:PUBLISH
X-WR-CALNAME:Panticosa Esqui Club
X-ORIGINAL-URL:https://www.panticosaesquiclub.es
X-WR-CALDESC:Eventos para Panticosa Esqui Club
BEGIN:VTIMEZONE
TZID:Europe/Madrid
BEGIN:DAYLIGHT
TZOFFSETFROM:+0100
TZOFFSETTO:+0200
TZNAME:CEST
DTSTART:20220327T010000
END:DAYLIGHT
BEGIN:STANDARD
TZOFFSETFROM:+0200
TZOFFSETTO:+0100
TZNAME:CET
DTSTART:20221030T010000
END:STANDARD
END:VTIMEZONE
BEGIN:VEVENT
DTSTART;TZID=Europe/Madrid:20220122T090000
DTEND;TZID=Europe/Madrid:20220122T160000
DTSTAMP:20260420T001707
CREATED:20201129T114530Z
LAST-MODIFIED:20220113T062210Z
UID:16945-1642842000-1642867200@www.panticosaesquiclub.es
SUMMARY:XIII Trofeo Panticosa Memorial Sergio Belio U10-U12-Comarca Pirineos Alto Gallego
DESCRIPTION:CONVOCATORIA XIII Trofeo Panticosa Memorial Sergio Belio U10-U12-Comarca Pirineos Alto Gallego
URL:https://www.panticosaesquiclub.es/actividad/trofeo-panticosa-u10-u12-memorial-sergio-belio-comarca-pirineos-alto-gallego/
LOCATION:Estación de esquí Panticosa
ATTACH;FMTTYPE=application/pdf:https://www.panticosaesquiclub.es/wp-content/uploads/CARTEL-XIII-Trofeo-Panticosa-U10-U12-MEM.-SERGIO-BELIO-Comarca-ALTO-GALLEGO-22-ENERO-2022.pdf
END:VEVENT
END:VCALENDAR