BEGIN:VCALENDAR
VERSION:2.0
PRODID:-//Panticosa Esqui Club - ECPv5.10.0//NONSGML v1.0//EN
CALSCALE:GREGORIAN
METHOD:PUBLISH
X-WR-CALNAME:Panticosa Esqui Club
X-ORIGINAL-URL:https://www.panticosaesquiclub.es
X-WR-CALDESC:Eventos para Panticosa Esqui Club
BEGIN:VTIMEZONE
TZID:Europe/Madrid
BEGIN:DAYLIGHT
TZOFFSETFROM:+0100
TZOFFSETTO:+0200
TZNAME:CEST
DTSTART:20260329T010000
END:DAYLIGHT
BEGIN:STANDARD
TZOFFSETFROM:+0200
TZOFFSETTO:+0100
TZNAME:CET
DTSTART:20261025T010000
END:STANDARD
END:VTIMEZONE
BEGIN:VEVENT
DTSTART;VALUE=DATE:20260221
DTEND;VALUE=DATE:20260222
DTSTAMP:20260422T125507
CREATED:20251016T110644Z
LAST-MODIFIED:20260221T183940Z
UID:22248-1771632000-1771718399@www.panticosaesquiclub.es
SUMMARY:III Trofeo MINIYETIS U6-U8-U10-U12 by Energías de Panticosa\, sábado 21 de febrero 2026
DESCRIPTION:Resultados: \nIII Trofeo Miniyetis Panticosa by Energías de Panticosa U6 U8 U10 U12 21 de febrero 2026
URL:https://www.panticosaesquiclub.es/actividad/trofeo-miniyetis-u6-u8-by-energias-de-panticosa-domingo-3-de-marzo-2024-2/
CATEGORIES:Competicion
END:VEVENT
END:VCALENDAR