BEGIN:VCALENDAR
VERSION:2.0
PRODID:-//Panticosa Esqui Club - ECPv5.10.0//NONSGML v1.0//EN
CALSCALE:GREGORIAN
METHOD:PUBLISH
X-WR-CALNAME:Panticosa Esqui Club
X-ORIGINAL-URL:https://www.panticosaesquiclub.es
X-WR-CALDESC:Eventos para Panticosa Esqui Club
BEGIN:VTIMEZONE
TZID:Europe/Madrid
BEGIN:DAYLIGHT
TZOFFSETFROM:+0100
TZOFFSETTO:+0200
TZNAME:CEST
DTSTART:20210328T010000
END:DAYLIGHT
BEGIN:STANDARD
TZOFFSETFROM:+0200
TZOFFSETTO:+0100
TZNAME:CET
DTSTART:20211031T010000
END:STANDARD
END:VTIMEZONE
BEGIN:VEVENT
DTSTART;TZID=Europe/Madrid:20211126T180000
DTEND;TZID=Europe/Madrid:20211126T200000
DTSTAMP:20260419T205651
CREATED:20191112T144114Z
LAST-MODIFIED:20211105T103914Z
UID:12305-1637949600-1637956800@www.panticosaesquiclub.es
SUMMARY:Primer día oficina-sede PEC abierta
DESCRIPTION:En El Panticosa Esquí Club estamos a tu disposición a través del Email panticosa@panticosaesquiclub.es y el teléfono 660383883\nDías de Oficina-Sede física abierta al socio:\nDebido a la actual situación\, nuestra oficina tendrá restringido el aforo a 75% de aforo (con mascarilla y uso del gel hidroalcoholico). \nABRIMOS a partir del 26 de noviembre. \nViernes 26 y sábado 27 de noviembre de 2021 de 18 a 20h. \n…y a partir de entonces \nLUNES de Toda la Temporada 18 a 20 h. \nSABADOS de Toda la temporada 18 a  21 h. \nVIERNES de Diciembre de 18 a 20 h. \nY además abrimos de 18 a 20h.: 5\, 7 \, 8\, 26\, 28\,29\,30 de diciembre – 2\,4 y 7 de enero – 4 de febrero – 4 de marzo – 14 y 15 de abril
URL:https://www.panticosaesquiclub.es/actividad/primer-dias-oficina-pec-abierta/
LOCATION:Oficina Sede Panticosa Esquí Club\, San Miguel s/n Edif La Fajuala\, Panticosa\, huesca\, 22661
END:VEVENT
END:VCALENDAR