BEGIN:VCALENDAR
VERSION:2.0
PRODID:-//Panticosa Esqui Club - ECPv5.10.0//NONSGML v1.0//EN
CALSCALE:GREGORIAN
METHOD:PUBLISH
X-WR-CALNAME:Panticosa Esqui Club
X-ORIGINAL-URL:https://www.panticosaesquiclub.es
X-WR-CALDESC:Eventos para Panticosa Esqui Club
BEGIN:VTIMEZONE
TZID:Europe/Madrid
BEGIN:DAYLIGHT
TZOFFSETFROM:+0100
TZOFFSETTO:+0200
TZNAME:CEST
DTSTART:20180325T010000
END:DAYLIGHT
BEGIN:STANDARD
TZOFFSETFROM:+0200
TZOFFSETTO:+0100
TZNAME:CET
DTSTART:20181028T010000
END:STANDARD
END:VTIMEZONE
BEGIN:VEVENT
DTSTART;TZID=Europe/Madrid:20181229T170000
DTEND;TZID=Europe/Madrid:20181229T180000
DTSTAMP:20260421T142121
CREATED:20181105T185958Z
LAST-MODIFIED:20181205T105757Z
UID:2632-1546102800-1546106400@www.panticosaesquiclub.es
SUMMARY:Presentación PROGRAMA ANUAL "EQUIPO COMPETICIÓN" PEC Esquí Alpino - Salón la Fajuala -Panticosa
DESCRIPTION:Se expondrá: \n-Programa de invierno Fines de semana y Festivos \n-Programa esquí Estudio Lunes a Jueves \n-Pre- Temporada Verano y Otoño 2019: Entrenamientos en nieve y Físico.
URL:https://www.panticosaesquiclub.es/actividad/presentacion-programa-anual-equipo-competicion-pec-esqui-alpino-salon-la-fajuala-panticosa/
END:VEVENT
END:VCALENDAR