BEGIN:VCALENDAR
VERSION:2.0
PRODID:-//Panticosa Esqui Club - ECPv5.10.0//NONSGML v1.0//EN
CALSCALE:GREGORIAN
METHOD:PUBLISH
X-WR-CALNAME:Panticosa Esqui Club
X-ORIGINAL-URL:https://www.panticosaesquiclub.es
X-WR-CALDESC:Eventos para Panticosa Esqui Club
BEGIN:VTIMEZONE
TZID:Europe/Madrid
BEGIN:DAYLIGHT
TZOFFSETFROM:+0100
TZOFFSETTO:+0200
TZNAME:CEST
DTSTART:20200329T010000
END:DAYLIGHT
BEGIN:STANDARD
TZOFFSETFROM:+0200
TZOFFSETTO:+0100
TZNAME:CET
DTSTART:20201025T010000
END:STANDARD
END:VTIMEZONE
BEGIN:VEVENT
DTSTART;TZID=Europe/Madrid:20200328T180000
DTEND;TZID=Europe/Madrid:20200328T180000
DTSTAMP:20260420T031455
CREATED:20200309T073041Z
LAST-MODIFIED:20200309T073041Z
UID:13689-1585418400-1585418400@www.panticosaesquiclub.es
SUMMARY:Presentación PRE-TEMPORADA PEC : Nieve y preparación Física Verano y Otoño 2020
DESCRIPTION:Charla en la que os ofreceremos la Presentación PRE-TEMPORADA PEC : Nieve y preparación Física Verano y Otoño 2020 \nSalón de La Fajuala\, a las 18horas.
URL:https://www.panticosaesquiclub.es/actividad/presentacion-pre-temporada-pec-nieve-y-preparacion-fisica-verano-y-otono-2020/
END:VEVENT
END:VCALENDAR