BEGIN:VCALENDAR
VERSION:2.0
PRODID:-//Panticosa Esqui Club - ECPv5.10.0//NONSGML v1.0//EN
CALSCALE:GREGORIAN
METHOD:PUBLISH
X-WR-CALNAME:Panticosa Esqui Club
X-ORIGINAL-URL:https://www.panticosaesquiclub.es
X-WR-CALDESC:Eventos para Panticosa Esqui Club
BEGIN:VTIMEZONE
TZID:Europe/Madrid
BEGIN:DAYLIGHT
TZOFFSETFROM:+0100
TZOFFSETTO:+0200
TZNAME:CEST
DTSTART:20200329T010000
END:DAYLIGHT
BEGIN:STANDARD
TZOFFSETFROM:+0200
TZOFFSETTO:+0100
TZNAME:CET
DTSTART:20201025T010000
END:STANDARD
END:VTIMEZONE
BEGIN:VEVENT
DTSTART;TZID=Europe/Madrid:20200405T080000
DTEND;TZID=Europe/Madrid:20200412T170000
DTSTAMP:20260419T224325
CREATED:20191113T134443Z
LAST-MODIFIED:20191113T134443Z
UID:12328-1586073600-1586710800@www.panticosaesquiclub.es
SUMMARY:Periodo de Pedidos a través del PEC Ropa-Material duro
DESCRIPTION:
URL:https://www.panticosaesquiclub.es/actividad/periodo-de-pedidos-a-traves-del-pec-ropa-material-duro/
END:VEVENT
END:VCALENDAR