BEGIN:VCALENDAR
VERSION:2.0
PRODID:-//Panticosa Esqui Club - ECPv5.10.0//NONSGML v1.0//EN
CALSCALE:GREGORIAN
METHOD:PUBLISH
X-WR-CALNAME:Panticosa Esqui Club
X-ORIGINAL-URL:https://www.panticosaesquiclub.es
X-WR-CALDESC:Eventos para Panticosa Esqui Club
BEGIN:VTIMEZONE
TZID:Europe/Madrid
BEGIN:DAYLIGHT
TZOFFSETFROM:+0100
TZOFFSETTO:+0200
TZNAME:CEST
DTSTART:20220327T010000
END:DAYLIGHT
BEGIN:STANDARD
TZOFFSETFROM:+0200
TZOFFSETTO:+0100
TZNAME:CET
DTSTART:20221030T010000
END:STANDARD
END:VTIMEZONE
BEGIN:VEVENT
DTSTART;TZID=Europe/Madrid:20220103T093000
DTEND;TZID=Europe/Madrid:20220103T100000
DTSTAMP:20260420T031104
CREATED:20211220T172639Z
LAST-MODIFIED:20211220T172640Z
UID:20163-1641202200-1641204000@www.panticosaesquiclub.es
SUMMARY:Foto Oficial Socios PEC Tda 2021-2022 50º Aniversario
DESCRIPTION:Foto Oficial Socios PEC Tda 2021-2022 \nEn Pistas \n9:30h. en Pilona 18 Telecabina
URL:https://www.panticosaesquiclub.es/actividad/foto-oficial-socios-pec-tda-2021-2022-50o-aniversario/
LOCATION:Estación de esquí Panticosa
END:VEVENT
END:VCALENDAR