BEGIN:VCALENDAR
VERSION:2.0
PRODID:-//Panticosa Esqui Club - ECPv5.10.0//NONSGML v1.0//EN
CALSCALE:GREGORIAN
METHOD:PUBLISH
X-WR-CALNAME:Panticosa Esqui Club
X-ORIGINAL-URL:https://www.panticosaesquiclub.es
X-WR-CALDESC:Eventos para Panticosa Esqui Club
BEGIN:VTIMEZONE
TZID:Europe/Madrid
BEGIN:DAYLIGHT
TZOFFSETFROM:+0100
TZOFFSETTO:+0200
TZNAME:CEST
DTSTART:20190331T010000
END:DAYLIGHT
BEGIN:STANDARD
TZOFFSETFROM:+0200
TZOFFSETTO:+0100
TZNAME:CET
DTSTART:20191027T010000
END:STANDARD
END:VTIMEZONE
BEGIN:VEVENT
DTSTART;TZID=Europe/Madrid:20191230T100000
DTEND;TZID=Europe/Madrid:20191230T103000
DTSTAMP:20260420T001451
CREATED:20191226T200034Z
LAST-MODIFIED:20191226T200134Z
UID:12930-1577700000-1577701800@www.panticosaesquiclub.es
SUMMARY:FOTO OFICIAL PANTICOSA ESQUÍ CLUB
DESCRIPTION:LA FOTO OFICIAL PANTICOSA ESQUÍ CLUB arriba en Pistas\, con la equipación del PEC\, en la ÚLTIMA PILONA DE LA TELECABINA!!! Foto de Todos los deportistas\, participantes en cursillos y sus técnicos.
URL:https://www.panticosaesquiclub.es/actividad/foto-oficial-panticosa-esqui-club/
END:VEVENT
END:VCALENDAR