BEGIN:VCALENDAR
VERSION:2.0
PRODID:-//Panticosa Esqui Club - ECPv5.10.0//NONSGML v1.0//EN
CALSCALE:GREGORIAN
METHOD:PUBLISH
X-WR-CALNAME:Panticosa Esqui Club
X-ORIGINAL-URL:https://www.panticosaesquiclub.es
X-WR-CALDESC:Eventos para Panticosa Esqui Club
BEGIN:VTIMEZONE
TZID:Europe/Madrid
BEGIN:DAYLIGHT
TZOFFSETFROM:+0100
TZOFFSETTO:+0200
TZNAME:CEST
DTSTART:20190331T010000
END:DAYLIGHT
BEGIN:STANDARD
TZOFFSETFROM:+0200
TZOFFSETTO:+0100
TZNAME:CET
DTSTART:20191027T010000
END:STANDARD
END:VTIMEZONE
BEGIN:VEVENT
DTSTART;TZID=Europe/Madrid:20190208T080000
DTEND;TZID=Europe/Madrid:20190208T210000
DTSTAMP:20260421T115914
CREATED:20190109T145358Z
LAST-MODIFIED:20190109T145751Z
UID:3366-1549612800-1549659600@www.panticosaesquiclub.es
SUMMARY:Fin plazo inscripcines Curso de Iniciación al Esquí de Montaña / Splitboard (2 días + 1 tarde)
DESCRIPTION:Estimados socios\, \nDesde la sección de montaña del PEC\, queremos que\, tanto los SOCIOS 2018-2019 que ya os habéis iniciado en la práctica del esquí de montaña como los que estáis interesados en hacerlo\, lo hagáis adquiriendo los conocimientos necesarios para poder realizar la actividad con la máxima seguridad posible. Es por esto que\, junto a Fede San Sebastián – Guías de Tena (Guía de Alta Montaña UIAGM)\, hemos organizado este curso.
URL:https://www.panticosaesquiclub.es/actividad/fin-plazo-inscripcines-curso-de-iniciacion-al-esqui-de-montana-splitboard-2-dias-1-tarde/
ATTACH;FMTTYPE=image/jpeg:https://www.panticosaesquiclub.es/wp-content/uploads/SKIMO-PEC-FEDE.jpg
END:VEVENT
END:VCALENDAR