BEGIN:VCALENDAR
VERSION:2.0
PRODID:-//Panticosa Esqui Club - ECPv5.10.0//NONSGML v1.0//EN
CALSCALE:GREGORIAN
METHOD:PUBLISH
X-WR-CALNAME:Panticosa Esqui Club
X-ORIGINAL-URL:https://www.panticosaesquiclub.es
X-WR-CALDESC:Eventos para Panticosa Esqui Club
BEGIN:VTIMEZONE
TZID:Europe/Madrid
BEGIN:DAYLIGHT
TZOFFSETFROM:+0100
TZOFFSETTO:+0200
TZNAME:CEST
DTSTART:20190331T010000
END:DAYLIGHT
BEGIN:STANDARD
TZOFFSETFROM:+0200
TZOFFSETTO:+0100
TZNAME:CET
DTSTART:20191027T010000
END:STANDARD
END:VTIMEZONE
BEGIN:VEVENT
DTSTART;TZID=Europe/Madrid:20190405T180000
DTEND;TZID=Europe/Madrid:20190405T180000
DTSTAMP:20260421T120054
CREATED:20190109T150229Z
LAST-MODIFIED:20190109T150229Z
UID:3368-1554487200-1554487200@www.panticosaesquiclub.es
SUMMARY:Curso de Iniciación al Esquí de Montaña / Splitboard (5 abril presentación\, 6\, 7\, 13 y 14 abril)
DESCRIPTION:Estimados socios\, \nDesde la sección de montaña del PEC\, queremos que\, tanto los que ya os habéis iniciado en la práctica del esquí de montaña como los que estáis interesados en hacerlo\, lo hagáis adquiriendo los conocimientos necesarios para poder realizar la actividad con la máxima seguridad posible. Es por esto que\, junto a Fede San Sebastián – Guías de Tena (Guía de Alta Montaña UIAGM)\, hemos organizado este curso.
URL:https://www.panticosaesquiclub.es/actividad/curso-de-iniciacion-al-esqui-de-montana-splitboard-5-abril-presentacion-6-7-13-y-14-abril/
END:VEVENT
END:VCALENDAR