BEGIN:VCALENDAR
VERSION:2.0
PRODID:-//Panticosa Esqui Club - ECPv5.10.0//NONSGML v1.0//EN
CALSCALE:GREGORIAN
METHOD:PUBLISH
X-WR-CALNAME:Panticosa Esqui Club
X-ORIGINAL-URL:https://www.panticosaesquiclub.es
X-WR-CALDESC:Eventos para Panticosa Esqui Club
BEGIN:VTIMEZONE
TZID:Europe/Madrid
BEGIN:DAYLIGHT
TZOFFSETFROM:+0100
TZOFFSETTO:+0200
TZNAME:CEST
DTSTART:20190331T010000
END:DAYLIGHT
BEGIN:STANDARD
TZOFFSETFROM:+0200
TZOFFSETTO:+0100
TZNAME:CET
DTSTART:20191027T010000
END:STANDARD
END:VTIMEZONE
BEGIN:VEVENT
DTSTART;TZID=Europe/Madrid:20191228T170000
DTEND;TZID=Europe/Madrid:20191228T180000
DTSTAMP:20260419T224107
CREATED:20191212T174347Z
LAST-MODIFIED:20191216T180425Z
UID:12776-1577552400-1577556000@www.panticosaesquiclub.es
SUMMARY:Charla SPORT-PEC
DESCRIPTION:Charla impartido por los técnicos para Informar a padres/madres y deportistas del programa de la Temporada 2019/2020 de estos grupos.
URL:https://www.panticosaesquiclub.es/actividad/charla-sport-pec/
ATTACH;FMTTYPE=image/jpeg:https://www.panticosaesquiclub.es/wp-content/uploads/Para-freestyle.jpg
END:VEVENT
END:VCALENDAR