BEGIN:VCALENDAR
VERSION:2.0
PRODID:-//Panticosa Esqui Club - ECPv5.10.0//NONSGML v1.0//EN
CALSCALE:GREGORIAN
METHOD:PUBLISH
X-WR-CALNAME:Panticosa Esqui Club
X-ORIGINAL-URL:https://www.panticosaesquiclub.es
X-WR-CALDESC:Eventos para Panticosa Esqui Club
BEGIN:VTIMEZONE
TZID:Europe/Madrid
BEGIN:DAYLIGHT
TZOFFSETFROM:+0100
TZOFFSETTO:+0200
TZNAME:CEST
DTSTART:20190331T010000
END:DAYLIGHT
BEGIN:STANDARD
TZOFFSETFROM:+0200
TZOFFSETTO:+0100
TZNAME:CET
DTSTART:20191027T010000
END:STANDARD
END:VTIMEZONE
BEGIN:VEVENT
DTSTART;TZID=Europe/Madrid:20191208T180000
DTEND;TZID=Europe/Madrid:20191208T200000
DTSTAMP:20260419T205600
CREATED:20191113T135230Z
LAST-MODIFIED:20191202T205639Z
UID:12332-1575828000-1575835200@www.panticosaesquiclub.es
SUMMARY:Charla PODOJACA
DESCRIPTION:Charla PODOJACA: \n8 de Diciembre de 2019      18:00h \nCentro Cultural La Fajuala (Panticosa) \n  \n«¿Y tú\, cómo pisas? Prevención de lesiones en el esquí» \nA cargo de Ángel Mendez Gallardo\, \n– Diplomado en Podología por la escuela universitaria europea de Madrid. \n– Máster en Podología clínica y quirúrgica. \n-Gerente de la Clínica PodoJaca. \nSocios PEC gratis y no socios 2€
URL:https://www.panticosaesquiclub.es/actividad/charla-podojaca/
ATTACH;FMTTYPE=image/jpeg:https://www.panticosaesquiclub.es/wp-content/uploads/CHARLA-PODO-JACA-2019.jpg
END:VEVENT
END:VCALENDAR