BEGIN:VCALENDAR
VERSION:2.0
PRODID:-//Panticosa Esqui Club - ECPv5.10.0//NONSGML v1.0//EN
CALSCALE:GREGORIAN
METHOD:PUBLISH
X-WR-CALNAME:Panticosa Esqui Club
X-ORIGINAL-URL:https://www.panticosaesquiclub.es
X-WR-CALDESC:Eventos para Panticosa Esqui Club
BEGIN:VTIMEZONE
TZID:Europe/Madrid
BEGIN:DAYLIGHT
TZOFFSETFROM:+0100
TZOFFSETTO:+0200
TZNAME:CEST
DTSTART:20220327T010000
END:DAYLIGHT
BEGIN:STANDARD
TZOFFSETFROM:+0200
TZOFFSETTO:+0100
TZNAME:CET
DTSTART:20221030T010000
END:STANDARD
END:VTIMEZONE
BEGIN:VEVENT
DTSTART;TZID=Europe/Madrid:20220402T170000
DTEND;TZID=Europe/Madrid:20220402T193000
DTSTAMP:20260420T031034
CREATED:20211220T173256Z
LAST-MODIFIED:20220316T194638Z
UID:20166-1648918800-1648927800@www.panticosaesquiclub.es
SUMMARY:Charla Informativa PEC Programa Pre-temporada tda 2022-2023
DESCRIPTION:Charla Informativa PEC PRE-TEMPORADA 2022-202 \nPara los padres/madres de deportistas con licencia competición actual y a los futuros u10 de 1er año en 22/23 (nacidos en 2014) \nSabado 2 abril 19\,30 h. en el SALON LA FAJUALA
URL:https://www.panticosaesquiclub.es/actividad/charla-informativa-pec-programa-pre-temporada-verano-y-otono/
LOCATION:Centro Cultural La Fajuala (Panticosa)\, Edificio La Fajuala\, Panticosa\, Huesca\, 22661\, España
END:VEVENT
END:VCALENDAR