BEGIN:VCALENDAR
VERSION:2.0
PRODID:-//Panticosa Esqui Club - ECPv5.10.0//NONSGML v1.0//EN
CALSCALE:GREGORIAN
METHOD:PUBLISH
X-WR-CALNAME:Panticosa Esqui Club
X-ORIGINAL-URL:https://www.panticosaesquiclub.es
X-WR-CALDESC:Eventos para Panticosa Esqui Club
BEGIN:VTIMEZONE
TZID:Europe/Madrid
BEGIN:DAYLIGHT
TZOFFSETFROM:+0100
TZOFFSETTO:+0200
TZNAME:CEST
DTSTART:20210328T010000
END:DAYLIGHT
BEGIN:STANDARD
TZOFFSETFROM:+0200
TZOFFSETTO:+0100
TZNAME:CET
DTSTART:20211031T010000
END:STANDARD
END:VTIMEZONE
BEGIN:VEVENT
DTSTART;TZID=Europe/Madrid:20211218T180000
DTEND;TZID=Europe/Madrid:20211218T190000
DTSTAMP:20260420T030801
CREATED:20211217T075621Z
LAST-MODIFIED:20211217T075621Z
UID:20159-1639850400-1639854000@www.panticosaesquiclub.es
SUMMARY:Charla informativa para padres o madres CANTERA PEC 2021/2022 con edades de los años de nacimiento 2010 a 2014
DESCRIPTION:Sábado 18 de diciembre de 2021\, a las 18h. en el SALON DE ACTOS DEL AYUNTAMIENTO DE PANTICOSA Charla informativa para padres o madres con participantes en CANTERA PEC 2021/2022 con edades de los años de nacimiento 2010 a 2014 ambos incluidos. \nComo no puede ser de otra forma\, en el mencionado acto se cumplirán las medidas de prevención Covid19 establecidas. \nAgradeceremos vuestra presencia.
URL:https://www.panticosaesquiclub.es/actividad/charla-informativa-para-padres-o-madres-cantera-pec-2021-2022-con-edades-de-los-anos-de-nacimiento-2010-a-2014/
LOCATION:Ayuntamiento de Panticosa\, San Miguel 27\, Panticosa\, huesca\, 22661
END:VEVENT
END:VCALENDAR