BEGIN:VCALENDAR
VERSION:2.0
PRODID:-//Panticosa Esqui Club - ECPv5.10.0//NONSGML v1.0//EN
CALSCALE:GREGORIAN
METHOD:PUBLISH
X-WR-CALNAME:Panticosa Esqui Club
X-ORIGINAL-URL:https://www.panticosaesquiclub.es
X-WR-CALDESC:Eventos para Panticosa Esqui Club
BEGIN:VTIMEZONE
TZID:Europe/Madrid
BEGIN:DAYLIGHT
TZOFFSETFROM:+0100
TZOFFSETTO:+0200
TZNAME:CEST
DTSTART:20190331T010000
END:DAYLIGHT
BEGIN:STANDARD
TZOFFSETFROM:+0200
TZOFFSETTO:+0100
TZNAME:CET
DTSTART:20191027T010000
END:STANDARD
END:VTIMEZONE
BEGIN:VEVENT
DTSTART;TZID=Europe/Madrid:20191230T193000
DTEND;TZID=Europe/Madrid:20191230T203000
DTSTAMP:20260420T001215
CREATED:20191212T174633Z
LAST-MODIFIED:20191226T212022Z
UID:12778-1577734200-1577737800@www.panticosaesquiclub.es
SUMMARY:Charla DEPORTISTAS PEC: desde las Categorías Base hasta el Alto Rendimiento
DESCRIPTION:Interesante Charla para todos nuestros jóvenes Corredores impartida por CORREDORES PEC de la generación 97-98-99\, que tuvieron recorrido desde las categorias inferiores del Panticosa Esquí Cliub hasta Juveniles (U18-U21) e incluso el CETDI Aragón para algunos de ellos.
URL:https://www.panticosaesquiclub.es/actividad/charla-generacion-97-98-99/
ATTACH;FMTTYPE=image/jpeg:https://www.panticosaesquiclub.es/wp-content/uploads/944887_1747583288804028_3374382898335553714_n.jpg
END:VEVENT
END:VCALENDAR