BEGIN:VCALENDAR
VERSION:2.0
PRODID:-//Panticosa Esqui Club - ECPv5.10.0//NONSGML v1.0//EN
CALSCALE:GREGORIAN
METHOD:PUBLISH
X-WR-CALNAME:Panticosa Esqui Club
X-ORIGINAL-URL:https://www.panticosaesquiclub.es
X-WR-CALDESC:Eventos para Panticosa Esqui Club
BEGIN:VTIMEZONE
TZID:Europe/Madrid
BEGIN:DAYLIGHT
TZOFFSETFROM:+0100
TZOFFSETTO:+0200
TZNAME:CEST
DTSTART:20200329T010000
END:DAYLIGHT
BEGIN:STANDARD
TZOFFSETFROM:+0200
TZOFFSETTO:+0100
TZNAME:CET
DTSTART:20201025T010000
END:STANDARD
END:VTIMEZONE
BEGIN:VEVENT
DTSTART;TZID=Europe/Madrid:20200321T190000
DTEND;TZID=Europe/Madrid:20200321T190000
DTSTAMP:20260420T014038
CREATED:20200309T072829Z
LAST-MODIFIED:20200309T072829Z
UID:13686-1584817200-1584817200@www.panticosaesquiclub.es
SUMMARY:Celebración 50º Aniversario PANTICOSA
DESCRIPTION:Actos institucionales\, Conciertos en Pistas y Polideportivo\, Desfile por la Calle\, etc… \nAprovechamos para invitaros formalmente al desfile que se celebrará el 21 de Marzo a las 7:00 de la tarde con motivo del 50 Aniversario de la estacion de Panticosa y la Escuela de Esqui. \nEl Club\, como parte integrante de esta celebración tendra un lugar privilegiado dentro de este evento y a todo el que sea Socio se le convoca a desfilar junto a todos los demas para llevar por todo lo alto el nombre del Panticosa Esqui Club! \nUn recorrido desde el Parking de la Estacion hasta el Polideportivo donde habrá otro acto conmemorativo. \nOs esperamos a todos!!!! \nDia 21 a las 19:00 en el Parking de la Cabina (acudir un poco antes)
URL:https://www.panticosaesquiclub.es/actividad/celebracion-50o-aniversario-panticosa/
ATTACH;FMTTYPE=image/jpeg:https://www.panticosaesquiclub.es/wp-content/uploads/Cartel-desfile.jpg
END:VEVENT
END:VCALENDAR