BEGIN:VCALENDAR
VERSION:2.0
PRODID:-//Panticosa Esqui Club - ECPv5.10.0//NONSGML v1.0//EN
CALSCALE:GREGORIAN
METHOD:PUBLISH
X-WR-CALNAME:Panticosa Esqui Club
X-ORIGINAL-URL:https://www.panticosaesquiclub.es
X-WR-CALDESC:Eventos para Panticosa Esqui Club
BEGIN:VTIMEZONE
TZID:Europe/Madrid
BEGIN:DAYLIGHT
TZOFFSETFROM:+0100
TZOFFSETTO:+0200
TZNAME:CEST
DTSTART:20240331T010000
END:DAYLIGHT
BEGIN:STANDARD
TZOFFSETFROM:+0200
TZOFFSETTO:+0100
TZNAME:CET
DTSTART:20241027T010000
END:STANDARD
END:VTIMEZONE
BEGIN:VEVENT
DTSTART;TZID=Europe/Madrid:20240330T080000
DTEND;TZID=Europe/Madrid:20240330T180000
DTSTAMP:20260422T100558
CREATED:20240330T063851Z
LAST-MODIFIED:20240330T063904Z
UID:21310-1711785600-1711821600@www.panticosaesquiclub.es
SUMMARY:Carrera Social Tda 2023-2024 + Entrega de Trofeos + Aperitivo
DESCRIPTION:CARRERA SOCIAL PEC Tda 2023-2024  sábado 30 marzo 2024 + Entrega Trofeos + Aperitivo \nINSCRIPCIONES: gratuita para socios PEC Tda. 2023-2024 ES NECESARIO INSCRIBIRSE antes de las 18:00h. del miércoles 27/03/2024 a través de la AP PLAYOFF Panticosa Esquí Club. \nCATEGORÍAS: Todas de 0 a 100 años. \nENTREGA de DORSALES: Antes del inicio de la carrera en la terraza de la Cafetería Petrosos (informaremos de horarios). \nTRAZADO Y HORARIO: La carrera consistirá en un Slalom Gigante (apto para todos los públicos). \nY tras la carrera\, ENTREGA DE TROFEOS + APERITIVO (en bar A Vieja Mina-Morlans). \nNota: Recuerda que los «No socios»\, deberán hacerse socio (cuota anual 30€) para participar en esta actividad. \n¡Ven y participa con el Panticosa Esquí Club!
URL:https://www.panticosaesquiclub.es/actividad/carrera-social-tda-2023-2024-entrega-de-trofeos-aperitivo/
ATTACH;FMTTYPE=image/jpeg:https://www.panticosaesquiclub.es/wp-content/uploads/Carrera-Social-30-marzo-2024.jpg
END:VEVENT
END:VCALENDAR