BEGIN:VCALENDAR
VERSION:2.0
PRODID:-//Panticosa Esqui Club - ECPv5.10.0//NONSGML v1.0//EN
CALSCALE:GREGORIAN
METHOD:PUBLISH
X-WR-CALNAME:Panticosa Esqui Club
X-ORIGINAL-URL:https://www.panticosaesquiclub.es
X-WR-CALDESC:Eventos para Panticosa Esqui Club
BEGIN:VTIMEZONE
TZID:Europe/Madrid
BEGIN:DAYLIGHT
TZOFFSETFROM:+0100
TZOFFSETTO:+0200
TZNAME:CEST
DTSTART:20200329T010000
END:DAYLIGHT
BEGIN:STANDARD
TZOFFSETFROM:+0200
TZOFFSETTO:+0100
TZNAME:CET
DTSTART:20201025T010000
END:STANDARD
END:VTIMEZONE
BEGIN:VEVENT
DTSTART;VALUE=DATE:20200404
DTEND;VALUE=DATE:20200405
DTSTAMP:20260420T001451
CREATED:20181105T191709Z
LAST-MODIFIED:20200309T073348Z
UID:2640-1585958400-1586044799@www.panticosaesquiclub.es
SUMMARY:Carrera Social Panticosa Esquí Club -Fecha de celebración: Sábado 4 de Abril de 2020
DESCRIPTION:CARRERA SOCIAL \nPanticosa Esquí Club \n  \n\nFOTOGRAFIAS DE LA Edicion anterior CARRERA SOCIAL  (Foto Barrio)\n  \n  \n 
URL:https://www.panticosaesquiclub.es/actividad/carrera-social-panticosa-esqui-club-2/
LOCATION:Estación de esquí Panticosa
CATEGORIES:Competicion,Entrenamientos,Esqui
END:VEVENT
END:VCALENDAR